BEGIN:VCALENDAR
VERSION:2.0
PRODID:-//Prosser Thrive - ECPv6.15.20//NONSGML v1.0//EN
CALSCALE:GREGORIAN
METHOD:PUBLISH
X-WR-CALNAME:Prosser Thrive
X-ORIGINAL-URL:https://prosserthrive.org
X-WR-CALDESC:Events for Prosser Thrive
REFRESH-INTERVAL;VALUE=DURATION:PT1H
X-Robots-Tag:noindex
X-PUBLISHED-TTL:PT1H
BEGIN:VTIMEZONE
TZID:America/Los_Angeles
BEGIN:DAYLIGHT
TZOFFSETFROM:-0800
TZOFFSETTO:-0700
TZNAME:PDT
DTSTART:20230312T100000
END:DAYLIGHT
BEGIN:STANDARD
TZOFFSETFROM:-0700
TZOFFSETTO:-0800
TZNAME:PST
DTSTART:20231105T090000
END:STANDARD
BEGIN:DAYLIGHT
TZOFFSETFROM:-0800
TZOFFSETTO:-0700
TZNAME:PDT
DTSTART:20240310T100000
END:DAYLIGHT
BEGIN:STANDARD
TZOFFSETFROM:-0700
TZOFFSETTO:-0800
TZNAME:PST
DTSTART:20241103T090000
END:STANDARD
BEGIN:DAYLIGHT
TZOFFSETFROM:-0800
TZOFFSETTO:-0700
TZNAME:PDT
DTSTART:20250309T100000
END:DAYLIGHT
BEGIN:STANDARD
TZOFFSETFROM:-0700
TZOFFSETTO:-0800
TZNAME:PST
DTSTART:20251102T090000
END:STANDARD
END:VTIMEZONE
BEGIN:VEVENT
DTSTART;TZID=America/Los_Angeles:20240528T173000
DTEND;TZID=America/Los_Angeles:20240528T200000
DTSTAMP:20260424T180623
CREATED:20240403T223535Z
LAST-MODIFIED:20240403T223535Z
UID:4301-1716917400-1716926400@prosserthrive.org
SUMMARY:Guiding Good Choices
DESCRIPTION:FREE FAMILY ENRICHMENT SESSIONS \nIn 5 sessions\, parents and caregivers can learn tools to better help their children face the challenges ahead. Guiding Good Choices emphasizes strong family bonds as the key that motivates teens and preteens to follow family guidelines and stay on a course toward better health and educational outcomes as teenagers. \nRegister Here – https://forms.gle/vQ2XfyEDuyjWwC2t6 \nSPRING 2024 SESSION DATES \n5 Sessions: \nTuesday\, April 30th \nTuesday\, May 7th \nTuesday\, May 14th \nTuesday\, May 21st \nTuesday\, May 28th \n*Participants are asked to attend all 5 sessions* \nFree dinner at 5:30pm \nClasses from 6:00 – 8:00 pm \nLocation – Bethel Church 270 N Gap Rd Prosser\, WA 99350
URL:https://prosserthrive.org/event/guiding-good-choices-6/2024-05-28/
LOCATION:Bethel Church\, 270 N Gap Rd\, Prosser\, WA\, 99350\, United States
GEO:46.2168775;-119.7897159
X-APPLE-STRUCTURED-LOCATION;VALUE=URI;X-ADDRESS=Bethel Church 270 N Gap Rd Prosser WA 99350 United States;X-APPLE-RADIUS=500;X-TITLE=270 N Gap Rd:geo:-119.7897159,46.2168775
END:VEVENT
BEGIN:VEVENT
DTSTART;TZID=America/Los_Angeles:20240521T173000
DTEND;TZID=America/Los_Angeles:20240521T200000
DTSTAMP:20260424T180623
CREATED:20240403T223535Z
LAST-MODIFIED:20240403T223535Z
UID:4300-1716312600-1716321600@prosserthrive.org
SUMMARY:Guiding Good Choices
DESCRIPTION:FREE FAMILY ENRICHMENT SESSIONS \nIn 5 sessions\, parents and caregivers can learn tools to better help their children face the challenges ahead. Guiding Good Choices emphasizes strong family bonds as the key that motivates teens and preteens to follow family guidelines and stay on a course toward better health and educational outcomes as teenagers. \nRegister Here – https://forms.gle/vQ2XfyEDuyjWwC2t6 \nSPRING 2024 SESSION DATES \n5 Sessions: \nTuesday\, April 30th \nTuesday\, May 7th \nTuesday\, May 14th \nTuesday\, May 21st \nTuesday\, May 28th \n*Participants are asked to attend all 5 sessions* \nFree dinner at 5:30pm \nClasses from 6:00 – 8:00 pm \nLocation – Bethel Church 270 N Gap Rd Prosser\, WA 99350
URL:https://prosserthrive.org/event/guiding-good-choices-6/2024-05-21/
LOCATION:Bethel Church\, 270 N Gap Rd\, Prosser\, WA\, 99350\, United States
GEO:46.2168775;-119.7897159
X-APPLE-STRUCTURED-LOCATION;VALUE=URI;X-ADDRESS=Bethel Church 270 N Gap Rd Prosser WA 99350 United States;X-APPLE-RADIUS=500;X-TITLE=270 N Gap Rd:geo:-119.7897159,46.2168775
END:VEVENT
BEGIN:VEVENT
DTSTART;TZID=America/Los_Angeles:20240514T173000
DTEND;TZID=America/Los_Angeles:20240514T200000
DTSTAMP:20260424T180623
CREATED:20240403T223535Z
LAST-MODIFIED:20240403T223535Z
UID:4299-1715707800-1715716800@prosserthrive.org
SUMMARY:Guiding Good Choices
DESCRIPTION:FREE FAMILY ENRICHMENT SESSIONS \nIn 5 sessions\, parents and caregivers can learn tools to better help their children face the challenges ahead. Guiding Good Choices emphasizes strong family bonds as the key that motivates teens and preteens to follow family guidelines and stay on a course toward better health and educational outcomes as teenagers. \nRegister Here – https://forms.gle/vQ2XfyEDuyjWwC2t6 \nSPRING 2024 SESSION DATES \n5 Sessions: \nTuesday\, April 30th \nTuesday\, May 7th \nTuesday\, May 14th \nTuesday\, May 21st \nTuesday\, May 28th \n*Participants are asked to attend all 5 sessions* \nFree dinner at 5:30pm \nClasses from 6:00 – 8:00 pm \nLocation – Bethel Church 270 N Gap Rd Prosser\, WA 99350
URL:https://prosserthrive.org/event/guiding-good-choices-6/2024-05-14/
LOCATION:Bethel Church\, 270 N Gap Rd\, Prosser\, WA\, 99350\, United States
GEO:46.2168775;-119.7897159
X-APPLE-STRUCTURED-LOCATION;VALUE=URI;X-ADDRESS=Bethel Church 270 N Gap Rd Prosser WA 99350 United States;X-APPLE-RADIUS=500;X-TITLE=270 N Gap Rd:geo:-119.7897159,46.2168775
END:VEVENT
BEGIN:VEVENT
DTSTART;TZID=America/Los_Angeles:20240507T173000
DTEND;TZID=America/Los_Angeles:20240507T200000
DTSTAMP:20260424T180623
CREATED:20240403T223535Z
LAST-MODIFIED:20240403T223535Z
UID:4298-1715103000-1715112000@prosserthrive.org
SUMMARY:Guiding Good Choices
DESCRIPTION:FREE FAMILY ENRICHMENT SESSIONS \nIn 5 sessions\, parents and caregivers can learn tools to better help their children face the challenges ahead. Guiding Good Choices emphasizes strong family bonds as the key that motivates teens and preteens to follow family guidelines and stay on a course toward better health and educational outcomes as teenagers. \nRegister Here – https://forms.gle/vQ2XfyEDuyjWwC2t6 \nSPRING 2024 SESSION DATES \n5 Sessions: \nTuesday\, April 30th \nTuesday\, May 7th \nTuesday\, May 14th \nTuesday\, May 21st \nTuesday\, May 28th \n*Participants are asked to attend all 5 sessions* \nFree dinner at 5:30pm \nClasses from 6:00 – 8:00 pm \nLocation – Bethel Church 270 N Gap Rd Prosser\, WA 99350
URL:https://prosserthrive.org/event/guiding-good-choices-6/2024-05-07/
LOCATION:Bethel Church\, 270 N Gap Rd\, Prosser\, WA\, 99350\, United States
GEO:46.2168775;-119.7897159
X-APPLE-STRUCTURED-LOCATION;VALUE=URI;X-ADDRESS=Bethel Church 270 N Gap Rd Prosser WA 99350 United States;X-APPLE-RADIUS=500;X-TITLE=270 N Gap Rd:geo:-119.7897159,46.2168775
END:VEVENT
BEGIN:VEVENT
DTSTART;TZID=America/Los_Angeles:20240430T173000
DTEND;TZID=America/Los_Angeles:20240430T200000
DTSTAMP:20260424T180623
CREATED:20240403T223535Z
LAST-MODIFIED:20240403T223658Z
UID:4297-1714498200-1714507200@prosserthrive.org
SUMMARY:Guiding Good Choices
DESCRIPTION:FREE FAMILY ENRICHMENT SESSIONS \nIn 5 sessions\, parents and caregivers can learn tools to better help their children face the challenges ahead. Guiding Good Choices emphasizes strong family bonds as the key that motivates teens and preteens to follow family guidelines and stay on a course toward better health and educational outcomes as teenagers. \nRegister Here – https://forms.gle/vQ2XfyEDuyjWwC2t6 \nSPRING 2024 SESSION DATES \n5 Sessions: \nTuesday\, April 30th \nTuesday\, May 7th \nTuesday\, May 14th \nTuesday\, May 21st \nTuesday\, May 28th \n*Participants are asked to attend all 5 sessions* \nFree dinner at 5:30pm \nClasses from 6:00 – 8:00 pm \nLocation – Bethel Church 270 N Gap Rd Prosser\, WA 99350
URL:https://prosserthrive.org/event/guiding-good-choices-6/2024-04-30/
LOCATION:Bethel Church\, 270 N Gap Rd\, Prosser\, WA\, 99350\, United States
GEO:46.2168775;-119.7897159
X-APPLE-STRUCTURED-LOCATION;VALUE=URI;X-ADDRESS=Bethel Church 270 N Gap Rd Prosser WA 99350 United States;X-APPLE-RADIUS=500;X-TITLE=270 N Gap Rd:geo:-119.7897159,46.2168775
END:VEVENT
END:VCALENDAR